BEGIN:VCALENDAR
VERSION:2.0
PRODID:-//Music Lives - ECPv6.15.14//NONSGML v1.0//EN
CALSCALE:GREGORIAN
METHOD:PUBLISH
X-ORIGINAL-URL:https://musiclives.ca
X-WR-CALDESC:Events for Music Lives
REFRESH-INTERVAL;VALUE=DURATION:PT1H
X-Robots-Tag:noindex
X-PUBLISHED-TTL:PT1H
BEGIN:VTIMEZONE
TZID:America/Toronto
BEGIN:DAYLIGHT
TZOFFSETFROM:-0500
TZOFFSETTO:-0400
TZNAME:EDT
DTSTART:20230312T070000
END:DAYLIGHT
BEGIN:STANDARD
TZOFFSETFROM:-0400
TZOFFSETTO:-0500
TZNAME:EST
DTSTART:20231105T060000
END:STANDARD
BEGIN:DAYLIGHT
TZOFFSETFROM:-0500
TZOFFSETTO:-0400
TZNAME:EDT
DTSTART:20240310T070000
END:DAYLIGHT
BEGIN:STANDARD
TZOFFSETFROM:-0400
TZOFFSETTO:-0500
TZNAME:EST
DTSTART:20241103T060000
END:STANDARD
BEGIN:DAYLIGHT
TZOFFSETFROM:-0500
TZOFFSETTO:-0400
TZNAME:EDT
DTSTART:20250309T070000
END:DAYLIGHT
BEGIN:STANDARD
TZOFFSETFROM:-0400
TZOFFSETTO:-0500
TZNAME:EST
DTSTART:20251102T060000
END:STANDARD
END:VTIMEZONE
BEGIN:VEVENT
DTSTART;TZID=America/Toronto:20240907T190000
DTEND;TZID=America/Toronto:20240907T190000
DTSTAMP:20260417T233235
CREATED:20240902T135011Z
LAST-MODIFIED:20240902T135011Z
UID:58418-1725735600-1725735600@musiclives.ca
SUMMARY:ALEJANDRA NUNEZ TRIO
DESCRIPTION:Ale Nunez is a musician from Toronto Ontario\, she is heavily influenced by jazz and soul\, and is currently attending Humber College for their bachelor of music degree program. She’s looking forward to recording original music this year\, as well as jazz standards from the great American songbook.
URL:https://musiclives.ca/event/alejandra-nunez-trio-2/
LOCATION:Manhattans Music Club\, 951 Gordon Street [Unit 7]\, Guelph\, Ontario\, N1G 4S1\, Canada
CATEGORIES:Live Music
ATTACH;FMTTYPE=image/jpeg:https://musiclives.ca/wp-content/uploads/2024/08/fitcontainwidth375-1.jpg
END:VEVENT
BEGIN:VEVENT
DTSTART;TZID=America/Toronto:20240907T200000
DTEND;TZID=America/Toronto:20240907T200000
DTSTAMP:20260417T233235
CREATED:20240815T185643Z
LAST-MODIFIED:20240815T185643Z
UID:58332-1725739200-1725739200@musiclives.ca
SUMMARY:GeT HaRd.....!!!!!
DESCRIPTION:Kick the fall season off with a banger at The Pap. The Venue with the menu….!!!!\ncatch :\n7 Day Riot\nCrimson Asphalt\nThe Dominion\n3 Impotent Males\nStuck In Neutral\ndoors at 8\, show starts at 9. \nAll ages. Licensed.
URL:https://musiclives.ca/event/get-hard/
LOCATION:Red Papaya Thai and Grill\, 55 Wyndham Street North\, Guelph\, Ontario\, N1H 7T8\, Canada
CATEGORIES:Live Music
ATTACH;FMTTYPE=image/jpeg:https://musiclives.ca/wp-content/uploads/2024/08/454197490_10161116608908855_2262214500284277199_n.jpg
END:VEVENT
BEGIN:VEVENT
DTSTART;TZID=America/Toronto:20240907T203000
DTEND;TZID=America/Toronto:20240907T203000
DTSTAMP:20260417T233235
CREATED:20240826T004558Z
LAST-MODIFIED:20240826T004558Z
UID:58381-1725741000-1725741000@musiclives.ca
SUMMARY:Ky Anto
DESCRIPTION:🎉 Feel the Beat! 🍹 \nEnjoy live music by Ky Anto 🎶 \n7th September 8.30 PM. \nIt’s sure to be a night you won’t want to miss! 🎸✨
URL:https://musiclives.ca/event/ky-anto/
LOCATION:The Shakespeare Arms\, 35 Harvard Rd\, Guelph\, Ontario\, N1G 2X9\, Canada
CATEGORIES:Live Music
ATTACH;FMTTYPE=image/jpeg:https://musiclives.ca/wp-content/uploads/2024/08/456607579_18098691475435229_4889323662753154034_n.jpg
END:VEVENT
BEGIN:VEVENT
DTSTART;TZID=America/Toronto:20240907T210000
DTEND;TZID=America/Toronto:20240907T210000
DTSTAMP:20260417T233235
CREATED:20240826T140421Z
LAST-MODIFIED:20240902T135540Z
UID:58404-1725742800-1725742800@musiclives.ca
SUMMARY:MIRACLE FRAUD\, TROGLOS\, & TIME FJORD
DESCRIPTION:Miracle Fraud – Saturday\, Sept 7 – 9pm \nhttps://www.instagram.com/miracle_fraud_band/
URL:https://musiclives.ca/event/miracle-fraud/
LOCATION:Which Craft\, 91 Wyndham St N\,\, Guelph\, Ontario\, N1H 4E9\, Canada
CATEGORIES:Live Music
ATTACH;FMTTYPE=image/jpeg:https://musiclives.ca/wp-content/uploads/2024/08/smaller_miracle-fraud2267.jpg
END:VEVENT
BEGIN:VEVENT
DTSTART;TZID=America/Toronto:20240907T213000
DTEND;TZID=America/Toronto:20240907T213000
DTSTAMP:20260417T233235
CREATED:20240905T185946Z
LAST-MODIFIED:20240905T190031Z
UID:59446-1725744600-1725744600@musiclives.ca
SUMMARY:Brad James Band
DESCRIPTION:Singer/songwriter Brad James is one of Hamilton’s foremost musical talents. His work has been influenced by artists such as Keith Urban\, Brothers Osbourne\, Midland\, Dierks Bentley\, The Glorious Sons and many others. Brad’s sound is an unmistakably new and intriguing incorporation of rock and country.
URL:https://musiclives.ca/event/brad-james-band-3/
LOCATION:The Stampede Ranch\, 226 Woodlawn Road West\, Guelph\, ON\, N1H 1B6\, Canada
CATEGORIES:Live Music
ATTACH;FMTTYPE=image/jpeg:https://musiclives.ca/wp-content/uploads/2024/09/bradjames.jpg
END:VEVENT
END:VCALENDAR