BEGIN:VCALENDAR
VERSION:2.0
PRODID:-//Music Lives - ECPv6.15.14//NONSGML v1.0//EN
CALSCALE:GREGORIAN
METHOD:PUBLISH
X-WR-CALNAME:Music Lives
X-ORIGINAL-URL:https://musiclives.ca
X-WR-CALDESC:Events for Music Lives
REFRESH-INTERVAL;VALUE=DURATION:PT1H
X-Robots-Tag:noindex
X-PUBLISHED-TTL:PT1H
BEGIN:VTIMEZONE
TZID:America/Toronto
BEGIN:DAYLIGHT
TZOFFSETFROM:-0500
TZOFFSETTO:-0400
TZNAME:EDT
DTSTART:20230312T070000
END:DAYLIGHT
BEGIN:STANDARD
TZOFFSETFROM:-0400
TZOFFSETTO:-0500
TZNAME:EST
DTSTART:20231105T060000
END:STANDARD
BEGIN:DAYLIGHT
TZOFFSETFROM:-0500
TZOFFSETTO:-0400
TZNAME:EDT
DTSTART:20240310T070000
END:DAYLIGHT
BEGIN:STANDARD
TZOFFSETFROM:-0400
TZOFFSETTO:-0500
TZNAME:EST
DTSTART:20241103T060000
END:STANDARD
BEGIN:DAYLIGHT
TZOFFSETFROM:-0500
TZOFFSETTO:-0400
TZNAME:EDT
DTSTART:20250309T070000
END:DAYLIGHT
BEGIN:STANDARD
TZOFFSETFROM:-0400
TZOFFSETTO:-0500
TZNAME:EST
DTSTART:20251102T060000
END:STANDARD
END:VTIMEZONE
BEGIN:VEVENT
DTSTART;TZID=America/Toronto:20240913T180000
DTEND;TZID=America/Toronto:20240913T180000
DTSTAMP:20260420T042204
CREATED:20240809T165533Z
LAST-MODIFIED:20240809T170211Z
UID:58255-1726250400-1726250400@musiclives.ca
SUMMARY:Angelica Sanchez & Chad Taylor
DESCRIPTION:Two exceptional musicians – Angelica Sanchez and Chad Taylor – present their first duo album with “A Monster is Just an Animal You Haven’t Met Yet”. And it’s high time\, given their long musical friendship\, which has solidified over the years in various formations. It is therefore no exaggeration to describe pianist Angelica Sanchez and drummer Chad Taylor as two of the most important musical personalities in contemporary jazz. Both are virtuoso improvisers and unmistakable stylists and they celebrate a music that releases energy – pulsating vividly while at the same time withdrawing into intimacy. The gratification that Sanchez and Taylor feel in playing together is heard in every note\, designating them a classic duo. A celebration of successful interplay and a tribute to the moment. Playing the music of our time\, these two personalities who show respect for each other and give each other space. “We are eavesdropping upon an intimate exposition of dimensional theses. A privileged impropriety granted by no one\, vaguely wanton\, and luridly inviting. And so\, it is…”\, writes Brandon Ross in the liner notes.
URL:https://musiclives.ca/event/angelica-sanchez-chad-taylor/
LOCATION:Guelph Youth Music Centre\, 75 Cardigan St.\, Guelph\, Ontario\, N1H 3Z7\, Canada
CATEGORIES:Live Music
ATTACH;FMTTYPE=image/jpeg:https://musiclives.ca/wp-content/uploads/2024/08/event48249.jpg
END:VEVENT
BEGIN:VEVENT
DTSTART;TZID=America/Toronto:20240913T190000
DTEND;TZID=America/Toronto:20240913T190000
DTSTAMP:20260420T042204
CREATED:20240809T165816Z
LAST-MODIFIED:20240809T170203Z
UID:58258-1726254000-1726254000@musiclives.ca
SUMMARY:Luke Stewart’s Silt Trio
DESCRIPTION:Called “one of the 25 most influential jazz artists of his generation” by DownBeat Magazine and a member of several earth-shaking ensembles\, including Irreversible Entanglements and Heroes Are Gang Leaders\, polymathic bassist Luke Stewart\, a creative catalyst on the Washington D.C. (and beyond) music scene for almost two decades\, introduces his protean trio with Chicago drum legend Chad Taylor and powerhouse DC saxophonist Brian Settles. \nA casual observer of the Washington D.C. music scene could easily get the mistaken impression that there are four or five guys coincidentally named Luke Stewart playing leading roles in a disparate array of musical communities. In fact\, Stewart is a singular\, uncontainable artist whose work as a bassist\, saxophonist\, producer\, broadcaster\, and all-around mover and shaker has deepened and extended the District’s legacy as a hotbed for creative music.
URL:https://musiclives.ca/event/luke-stewarts-silt-trio/
LOCATION:Royal City Mission\, 50 Quebec Street\, Guelph\, Ontario\, N1H 2T4\, Canada
CATEGORIES:Live Music
ATTACH;FMTTYPE=image/jpeg:https://musiclives.ca/wp-content/uploads/2024/08/event48234.jpeg
END:VEVENT
BEGIN:VEVENT
DTSTART;TZID=America/Toronto:20240913T190000
DTEND;TZID=America/Toronto:20240913T190000
DTSTAMP:20260420T042204
CREATED:20240909T020651Z
LAST-MODIFIED:20240909T020651Z
UID:59932-1726254000-1726254000@musiclives.ca
SUMMARY:THE PHLEGMIES // MONET & CHRISTIAN
DESCRIPTION:THE PHLEGMIES – LIVE STARTING AT 7PM -8:45PM\nMONET & CHRISTIAN – STARTING AT 9:30PM\nNo Cover! \n 
URL:https://musiclives.ca/event/the-phlegmies-monet-christian/
LOCATION:Which Craft\, 91 Wyndham St N\,\, Guelph\, Ontario\, N1H 4E9\, Canada
CATEGORIES:Live Music
ATTACH;FMTTYPE=image/jpeg:https://musiclives.ca/wp-content/uploads/2024/09/whichcraftFriday.jpg
END:VEVENT
BEGIN:VEVENT
DTSTART;TZID=America/Toronto:20240913T190000
DTEND;TZID=America/Toronto:20240913T190000
DTSTAMP:20260420T042204
CREATED:20240909T021330Z
LAST-MODIFIED:20240909T021330Z
UID:59944-1726254000-1726254000@musiclives.ca
SUMMARY:EMILY KEMP TRIO
DESCRIPTION:Emily Kemp was inspired by music from a young age. She achieved her advanced diploma in applied music and has been performing and teaching for the past 10 years. She captivates her audience with her rich soulful voice and charismatic stage presence. Emily connects emotionally to her audience and seamlessly flows the vocals from genre to genre.
URL:https://musiclives.ca/event/emily-kemp-trio-2/
LOCATION:Manhattans Music Club\, 951 Gordon Street [Unit 7]\, Guelph\, Ontario\, N1G 4S1\, Canada
CATEGORIES:Live Music
ATTACH;FMTTYPE=image/jpeg:https://musiclives.ca/wp-content/uploads/2024/08/emily.jpg
END:VEVENT
BEGIN:VEVENT
DTSTART;TZID=America/Toronto:20240913T190000
DTEND;TZID=America/Toronto:20240913T190000
DTSTAMP:20260420T042204
CREATED:20241118T172348Z
LAST-MODIFIED:20241118T172348Z
UID:60708-1726254000-1726254000@musiclives.ca
SUMMARY:Emily Kemp Trio
DESCRIPTION:Emily Kemp was inspired by music from a young age. She achieved her advanced diploma in applied music and has been performing and teaching for the past 10 years. She captivates her audience with her rich soulful voice and charismatic stage presence. Emily connects emotionally to her audience and seamlessly flows the vocals from genre to genre.
URL:https://musiclives.ca/event/emily-kemp-trio-3/
LOCATION:Manhattans Music Club\, 951 Gordon Street [Unit 7]\, Guelph\, Ontario\, N1G 4S1\, Canada
CATEGORIES:Live Music
ATTACH;FMTTYPE=image/jpeg:https://musiclives.ca/wp-content/uploads/2024/08/emily.jpg
END:VEVENT
BEGIN:VEVENT
DTSTART;TZID=America/Toronto:20240913T193000
DTEND;TZID=America/Toronto:20240913T193000
DTSTAMP:20260420T042204
CREATED:20240910T142652Z
LAST-MODIFIED:20240914T004433Z
UID:59979-1726255800-1726255800@musiclives.ca
SUMMARY:Electric Vinyl Orchestra
DESCRIPTION:Shine your dancing shoes because we want to see you at our show\, Friday\, September 13 at 7:30 pm at the Cornerstone.
URL:https://musiclives.ca/event/electric-vinyl-orchestra/
LOCATION:The Cornerstone\, 1 Wyndham St N\, Guelph\, Ontario\, N1H 4E2\, Canada
CATEGORIES:Live Music
ATTACH;FMTTYPE=image/jpeg:https://musiclives.ca/wp-content/uploads/2024/09/evo.jpg
END:VEVENT
BEGIN:VEVENT
DTSTART;TZID=America/Toronto:20240913T203000
DTEND;TZID=America/Toronto:20240913T203000
DTSTAMP:20260420T042204
CREATED:20240809T165927Z
LAST-MODIFIED:20240809T170155Z
UID:58262-1726259400-1726259400@musiclives.ca
SUMMARY:Darius Jones fLuXkit Vancouver
DESCRIPTION:Darius Jones has created a recognizable voice as a critically acclaimed saxophonist and composer by embracing individuality and innovation in the tradition of African-American music. Jones’ music is a confrontation against apathy and ego\, hoping to inspire authenticity that compels us to be better humans. \nA radiant manifesto of artistic freedom\, fLuXkit Vancouver (i̶t̶s suite but sacred) brings together a composition in four movements written and performed by Jones on alto saxophone\, long-time collaborator Gerald Cleaver on drums\, and four Vancouver-based string musicians: Violinists Jesse Zubot and Josh Zubot\, cellist Peggy Lee and bassist James Meger; with original artwork by Stan Douglas and liner notes by poet Harmony Holiday. \nCommissioned by Western Front\, an artist-run center for multidisciplinary experimentation and the historic home of the avant-garde in Vancouver\, Jones drew inspiration from Western Front’s ‘art is life’ ethos and its legacy of exchange with creative musicians such as George Lewis and Ornette Coleman. Composed across a series of residencies beginning in 2019 and recorded in June 2022 at Western Front’s iconic Grand Luxe Hall\, fLuXkit Vancouver (i̶t̶s suite but sacred) is the first collaborative release with Brooklyn-based Northern Spy and Helsinki-based We Jazz Records.
URL:https://musiclives.ca/event/darius-jones-fluxkit-vancouver/
LOCATION:Royal City Mission\, 50 Quebec Street\, Guelph\, Ontario\, N1H 2T4\, Canada
CATEGORIES:Live Music
ATTACH;FMTTYPE=image/jpeg:https://musiclives.ca/wp-content/uploads/2024/08/event48235.jpg
END:VEVENT
BEGIN:VEVENT
DTSTART;TZID=America/Toronto:20240913T210000
DTEND;TZID=America/Toronto:20240913T210000
DTSTAMP:20260420T042204
CREATED:20240908T235538Z
LAST-MODIFIED:20240914T003121Z
UID:59896-1726261200-1726261200@musiclives.ca
SUMMARY:Shark & Es 'Reflections' Release Show & Fundraiser
DESCRIPTION:Our 1st show the season is Sept 13th! Don’t miss this one Guelph! 💯💯 \n  \n 
URL:https://musiclives.ca/event/shark-es-reflections-release-show-fundraiser/
LOCATION:Red Papaya Thai and Grill\, 55 Wyndham Street North\, Guelph\, Ontario\, N1H 7T8\, Canada
CATEGORIES:Live Music
ATTACH;FMTTYPE=image/jpeg:https://musiclives.ca/wp-content/uploads/2024/09/shark.jpg
END:VEVENT
END:VCALENDAR