BEGIN:VCALENDAR
VERSION:2.0
PRODID:-//Music Lives - ECPv6.15.14//NONSGML v1.0//EN
CALSCALE:GREGORIAN
METHOD:PUBLISH
X-ORIGINAL-URL:https://musiclives.ca
X-WR-CALDESC:Events for Music Lives
REFRESH-INTERVAL;VALUE=DURATION:PT1H
X-Robots-Tag:noindex
X-PUBLISHED-TTL:PT1H
BEGIN:VTIMEZONE
TZID:America/Toronto
BEGIN:DAYLIGHT
TZOFFSETFROM:-0500
TZOFFSETTO:-0400
TZNAME:EDT
DTSTART:20230312T070000
END:DAYLIGHT
BEGIN:STANDARD
TZOFFSETFROM:-0400
TZOFFSETTO:-0500
TZNAME:EST
DTSTART:20231105T060000
END:STANDARD
BEGIN:DAYLIGHT
TZOFFSETFROM:-0500
TZOFFSETTO:-0400
TZNAME:EDT
DTSTART:20240310T070000
END:DAYLIGHT
BEGIN:STANDARD
TZOFFSETFROM:-0400
TZOFFSETTO:-0500
TZNAME:EST
DTSTART:20241103T060000
END:STANDARD
BEGIN:DAYLIGHT
TZOFFSETFROM:-0500
TZOFFSETTO:-0400
TZNAME:EDT
DTSTART:20250309T070000
END:DAYLIGHT
BEGIN:STANDARD
TZOFFSETFROM:-0400
TZOFFSETTO:-0500
TZNAME:EST
DTSTART:20251102T060000
END:STANDARD
END:VTIMEZONE
BEGIN:VEVENT
DTSTART;TZID=America/Toronto:20240915T143000
DTEND;TZID=America/Toronto:20240915T143000
DTSTAMP:20260415T164548
CREATED:20240809T171117Z
LAST-MODIFIED:20240809T171117Z
UID:58277-1726410600-1726410600@musiclives.ca
SUMMARY:Rob Mazurek
DESCRIPTION:Rob Mazurek is a multidisciplinary abstractivist with a focus on electro-acoustic composition\, improvisation\, performance\, painting\, sculpture\, video\, and installation. He spent much of his creative life in Chicago\, and some years in Brazil. Currently he lives and works in Marfa\, Texas. \nEmerging from the musical nexus of 1990’s Chicago\, the Jersey City\, New Jersey native has made an indelible impact on creative music over the past 30 years. He has written over 400 compositions and is featured on 70+ recordings from various labels including Thrill Jockey\, Astral Spirits\, Corbett vs Dempsey\, Cuneiform\, CleanFeed\, Delmark\, Rogue Art\, El Paraiso\, Harmonipan\, Mego\, Northern Spy\, Submarine\, and International Anthem. \nHe’s led or co-led many ensembles of various sizes and shapes including Exploding Star Orchestra (his flagship large ensemble)\, Chicago Underground (Duo\, Trio\, Quartet & Orchestra)\, Isotope 217 (alongside several members of Tortoise)\, São Paulo Underground (his primary working group across his time in Brazil)\, Pharoah and the Underground (featuring Pharoah Sanders)\, Alternate Moon Cycles (with Matt Lux and Mikel Patrick Avery)\, Alien Flower Sutra (with Emmett Kelly)\, and a duo with Jeff Parker – each of which possesses its own distinct musical personality. In addition to those listed above\, he has collaborated with Bill Dixon\, Roscoe Mitchell\, Hamid Drake\, Yusef Lateef\, Sam Prekop\, David Grubbs\, Jim O’Rourke\, Naná Vasconcelos\, and many more venerable artists.
URL:https://musiclives.ca/event/rob-mazurek/
LOCATION:Guelph Youth Music Centre\, 75 Cardigan St.\, Guelph\, Ontario\, N1H 3Z7\, Canada
CATEGORIES:Live Music
ATTACH;FMTTYPE=image/jpeg:https://musiclives.ca/wp-content/uploads/2024/08/event48251.jpeg
END:VEVENT
BEGIN:VEVENT
DTSTART;TZID=America/Toronto:20240915T150000
DTEND;TZID=America/Toronto:20240915T180000
DTSTAMP:20260415T164548
CREATED:20240909T001351Z
LAST-MODIFIED:20240909T001351Z
UID:59923-1726412400-1726423200@musiclives.ca
SUMMARY:Open Stage at The Cornerstone
DESCRIPTION:Open Stage with @hellionton every Sunday\, 3-6pm!
URL:https://musiclives.ca/event/open-stage-at-the-cornerstone-2/
LOCATION:The Cornerstone\, 1 Wyndham St N\, Guelph\, Ontario\, N1H 4E2\, Canada
CATEGORIES:Live Music
ATTACH;FMTTYPE=image/jpeg:https://musiclives.ca/wp-content/uploads/2024/09/cornerstoneOpenStage.jpg
END:VEVENT
BEGIN:VEVENT
DTSTART;TZID=America/Toronto:20240915T193000
DTEND;TZID=America/Toronto:20240915T193000
DTSTAMP:20260415T164548
CREATED:20240809T171233Z
LAST-MODIFIED:20240809T171233Z
UID:58280-1726428600-1726428600@musiclives.ca
SUMMARY:All Wild Things Are Shy
DESCRIPTION:All Wild Things Are Shy is the band Richard Laviolette worked with to rehearse and record his last and forthcoming album of the same name. Richard honed the songs on this album during the last five years of his life\, in the time between his mother’s death from Huntington’s Disease and his own. The band is: Jessy Bell Smith\, Rich Burnett\, Ally Corbett\, Jordan Howard\, Matt Reeves\, and Dave Snider. Together with a line-up of guest vocalists they will perform the twelve songs from All Wild Things Are Shy.
URL:https://musiclives.ca/event/all-wild-things-are-shy/
LOCATION:Royal City Mission\, 50 Quebec Street\, Guelph\, Ontario\, N1H 2T4\, Canada
CATEGORIES:Live Music
ATTACH;FMTTYPE=image/jpeg:https://musiclives.ca/wp-content/uploads/2024/08/event48238.jpg
END:VEVENT
BEGIN:VEVENT
DTSTART;TZID=America/Toronto:20240915T200000
DTEND;TZID=America/Toronto:20240915T200000
DTSTAMP:20260415T164548
CREATED:20240902T142137Z
LAST-MODIFIED:20240902T152452Z
UID:58445-1726430400-1726430400@musiclives.ca
SUMMARY:KARAOKE NIGHT at Which Craft
DESCRIPTION:KARAOKE NIGHT – EVERY SUNDAY AND WEDNESDAY AT 8PM \nWhen the music starts\, the fun begins! \nDrop by tonight and enjoy our local craft beer and signature cocktails!
URL:https://musiclives.ca/event/karaoke-night-at-which-craft-4/
LOCATION:Which Craft\, 91 Wyndham St N\,\, Guelph\, Ontario\, N1H 4E9\, Canada
CATEGORIES:Live Music
ATTACH;FMTTYPE=image/jpeg:https://musiclives.ca/wp-content/uploads/2024/09/smaller_sunday922.jpg
END:VEVENT
BEGIN:VEVENT
DTSTART;TZID=America/Toronto:20240915T220000
DTEND;TZID=America/Toronto:20240916T010000
DTSTAMP:20260415T164548
CREATED:20230206T011647Z
LAST-MODIFIED:20230206T011647Z
UID:50738-1726437600-1726448400@musiclives.ca
SUMMARY:Open Mic!
DESCRIPTION:10pm Sunday Nights downtown Guelph at Jimmy Jazz! \n$3.75 mixed drinks.\nCome early for 1/2 price chicken wings until 945pm and stay for open stage hosted by Murphy D!
URL:https://musiclives.ca/event/open-mic-5-2024-09-15/
LOCATION:Jimmy Jazz\, 52 MacDonnell\, Guelph\, Ontario\, N1H 4E5\, Canada
ATTACH;FMTTYPE=image/jpeg:https://musiclives.ca/wp-content/uploads/2023/02/329562712_734418234872791_3845833827682206997_n.jpg
END:VEVENT
END:VCALENDAR