BEGIN:VCALENDAR
VERSION:2.0
PRODID:-//Music Lives - ECPv6.15.14//NONSGML v1.0//EN
CALSCALE:GREGORIAN
METHOD:PUBLISH
X-ORIGINAL-URL:https://musiclives.ca
X-WR-CALDESC:Events for Music Lives
REFRESH-INTERVAL;VALUE=DURATION:PT1H
X-Robots-Tag:noindex
X-PUBLISHED-TTL:PT1H
BEGIN:VTIMEZONE
TZID:America/Toronto
BEGIN:DAYLIGHT
TZOFFSETFROM:-0500
TZOFFSETTO:-0400
TZNAME:EDT
DTSTART:20230312T070000
END:DAYLIGHT
BEGIN:STANDARD
TZOFFSETFROM:-0400
TZOFFSETTO:-0500
TZNAME:EST
DTSTART:20231105T060000
END:STANDARD
BEGIN:DAYLIGHT
TZOFFSETFROM:-0500
TZOFFSETTO:-0400
TZNAME:EDT
DTSTART:20240310T070000
END:DAYLIGHT
BEGIN:STANDARD
TZOFFSETFROM:-0400
TZOFFSETTO:-0500
TZNAME:EST
DTSTART:20241103T060000
END:STANDARD
BEGIN:DAYLIGHT
TZOFFSETFROM:-0500
TZOFFSETTO:-0400
TZNAME:EDT
DTSTART:20250309T070000
END:DAYLIGHT
BEGIN:STANDARD
TZOFFSETFROM:-0400
TZOFFSETTO:-0500
TZNAME:EST
DTSTART:20251102T060000
END:STANDARD
END:VTIMEZONE
BEGIN:VEVENT
DTSTART;TZID=America/Toronto:20240919T190000
DTEND;TZID=America/Toronto:20240919T190000
DTSTAMP:20260415T164649
CREATED:20240916T214412Z
LAST-MODIFIED:20240916T214412Z
UID:60018-1726772400-1726772400@musiclives.ca
SUMMARY:STAN CHANG – SOLO
DESCRIPTION:Stan Chang has been practicing scales on the piano since he was 5 years old. From piano recitals in his piano teacher’s living room to playing in churches\, Stan received training through the Royal Conservatory of Music as well as Wilfrid Laurier University in the Honours Music Program.  Through years of practice and experience\, Stan has perfected his musical passion\, performing a mix of jazz\, classical + pop instrumental favorites at weddings\, restaurant venues\, lounges\, and special functions across southern Ontario. \nIf you listen closely\, you’ll hear him mix original compositions\, and maybe even an odd memorable song from your childhood\, among well-known classics by Billy Joel\, Elton John\, Duke Ellington\, and The Beatles.  So sit back.  Savour your meal.  Have a few drinks or two\, and treat yourself to a dessert.  While you’re at it\, enjoy the music being performed for you and your guests. \nwww.thatpianoplayer.ca
URL:https://musiclives.ca/event/stan-chang-solo-4/
LOCATION:Manhattans Music Club\, 951 Gordon Street [Unit 7]\, Guelph\, Ontario\, N1G 4S1\, Canada
CATEGORIES:Live Music
ATTACH;FMTTYPE=image/jpeg:https://musiclives.ca/wp-content/uploads/2024/08/fitcontainwidth375.jpg
END:VEVENT
BEGIN:VEVENT
DTSTART;TZID=America/Toronto:20240919T213000
DTEND;TZID=America/Toronto:20240919T213000
DTSTAMP:20260415T164649
CREATED:20240919T141046Z
LAST-MODIFIED:20240919T141046Z
UID:60040-1726781400-1726781400@musiclives.ca
SUMMARY:Bradley Hale
DESCRIPTION:Thursday\, Friday and Saturday night! Come see Bradley Hale play between 9:30pm – 1:30am. Doors open at 7pm. @bradleyhale_
URL:https://musiclives.ca/event/bradley-hale-2/
LOCATION:The Stampede Ranch\, 226 Woodlawn Road West\, Guelph\, ON\, N1H 1B6\, Canada
CATEGORIES:Live Music
ATTACH;FMTTYPE=image/jpeg:https://musiclives.ca/wp-content/uploads/2024/09/bradleyhale.jpg
END:VEVENT
END:VCALENDAR