BEGIN:VCALENDAR
VERSION:2.0
PRODID:-//Music Lives - ECPv6.15.14//NONSGML v1.0//EN
CALSCALE:GREGORIAN
METHOD:PUBLISH
X-WR-CALNAME:Music Lives
X-ORIGINAL-URL:https://musiclives.ca
X-WR-CALDESC:Events for Music Lives
REFRESH-INTERVAL;VALUE=DURATION:PT1H
X-Robots-Tag:noindex
X-PUBLISHED-TTL:PT1H
BEGIN:VTIMEZONE
TZID:America/Toronto
BEGIN:DAYLIGHT
TZOFFSETFROM:-0500
TZOFFSETTO:-0400
TZNAME:EDT
DTSTART:20230312T070000
END:DAYLIGHT
BEGIN:STANDARD
TZOFFSETFROM:-0400
TZOFFSETTO:-0500
TZNAME:EST
DTSTART:20231105T060000
END:STANDARD
BEGIN:DAYLIGHT
TZOFFSETFROM:-0500
TZOFFSETTO:-0400
TZNAME:EDT
DTSTART:20240310T070000
END:DAYLIGHT
BEGIN:STANDARD
TZOFFSETFROM:-0400
TZOFFSETTO:-0500
TZNAME:EST
DTSTART:20241103T060000
END:STANDARD
BEGIN:DAYLIGHT
TZOFFSETFROM:-0500
TZOFFSETTO:-0400
TZNAME:EDT
DTSTART:20250309T070000
END:DAYLIGHT
BEGIN:STANDARD
TZOFFSETFROM:-0400
TZOFFSETTO:-0500
TZNAME:EST
DTSTART:20251102T060000
END:STANDARD
END:VTIMEZONE
BEGIN:VEVENT
DTSTART;TZID=America/Toronto:20241110T150000
DTEND;TZID=America/Toronto:20241110T150000
DTSTAMP:20260420T042305
CREATED:20241104T185834Z
LAST-MODIFIED:20241104T185834Z
UID:60593-1731250800-1731250800@musiclives.ca
SUMMARY:Classic Lightfoot Live
DESCRIPTION:Presented by Summertime Dream Productions \nClassic Lightfoot Live stands as Canada’s premier tribute to the legendary folk rocker\, Gordon Lightfoot. Led by the remarkable and original all Canadian cast\, with vocalist and guitarist John Stinson\, music director and multi-instrumentalist Bob Doidge (Gord’s record producer)\, bassist Steve Eyers (Gord’s nephew)\, lead guitarist Eric Kidd (Red Shea trained)\, this show whisks you down a nostalgic journey through Lightfoot’s iconic music. \nLightfoot’s impact on music is immeasurable; he’s hailed as Canada’s greatest songwriter\, shaping the folk-pop sounds of the ‘60s and ‘70s. His name is synonymous with timeless tales of trains\, shipwrecks\, rivers\, highways\, love\, and solitude which have left an indelible mark on the world. \nClassic Lightfoot Live was founded in 2012 by lead vocalist\, John Stinson\, a long time Ontario musician. He has been widely praised for his uncanny sonic resemblance to Gord\, and his attention to replicating Gord’s original studio recordings. \n“Others can tell\, even if they don’t know how or why John’s renditions come off as being so faithful. I’ve been told before\, and many did that night\, they can’t believe how well John sings Gord’s tunes.” John Swartz\, SunOnlineMedia.ca\, Nov 2023
URL:https://musiclives.ca/event/classic-lightfoot-live/
LOCATION:River Run Centre\, 35 Woolwich St\, Guelph\, Ontario\, Canada
CATEGORIES:Live Music
ATTACH;FMTTYPE=image/png:https://musiclives.ca/wp-content/uploads/2024/11/Classic-Lightfoot-Live.png
END:VEVENT
BEGIN:VEVENT
DTSTART;TZID=America/Toronto:20241110T150000
DTEND;TZID=America/Toronto:20241110T180000
DTSTAMP:20260420T042305
CREATED:20241028T182528Z
LAST-MODIFIED:20241028T182528Z
UID:60490-1731250800-1731261600@musiclives.ca
SUMMARY:Open Stage at The Cornerstone
DESCRIPTION:Open Stage with @hellionton every Sunday\, 3-6pm!
URL:https://musiclives.ca/event/open-stage-at-the-cornerstone-10/
LOCATION:The Cornerstone\, 1 Wyndham St N\, Guelph\, Ontario\, N1H 4E2\, Canada
CATEGORIES:Live Music
ATTACH;FMTTYPE=image/jpeg:https://musiclives.ca/wp-content/uploads/2024/09/cornerstoneOpenStage.jpg
END:VEVENT
BEGIN:VEVENT
DTSTART;TZID=America/Toronto:20241110T200000
DTEND;TZID=America/Toronto:20241110T200000
DTSTAMP:20260420T042305
CREATED:20241028T182312Z
LAST-MODIFIED:20241028T182312Z
UID:60482-1731268800-1731268800@musiclives.ca
SUMMARY:KARAOKE NIGHT at Which Craft
DESCRIPTION:KARAOKE NIGHT – EVERY SUNDAY AND WEDNESDAY AT 8PM \nWhen the music starts\, the fun begins! \nDrop by tonight and enjoy our local craft beer and signature cocktails!
URL:https://musiclives.ca/event/karaoke-night-at-which-craft-22/
LOCATION:Which Craft\, 91 Wyndham St N\,\, Guelph\, Ontario\, N1H 4E9\, Canada
CATEGORIES:Live Music
ATTACH;FMTTYPE=image/jpeg:https://musiclives.ca/wp-content/uploads/2024/09/smaller_wednesday2147.jpg
END:VEVENT
BEGIN:VEVENT
DTSTART;TZID=America/Toronto:20241110T210000
DTEND;TZID=America/Toronto:20241110T210000
DTSTAMP:20260420T042305
CREATED:20241105T174352Z
LAST-MODIFIED:20241105T174352Z
UID:60618-1731272400-1731272400@musiclives.ca
SUMMARY:Bo at McCabes
DESCRIPTION:Catch Bo playing at McCabes Guelph on Sunday November 10th from 9pm-close. @itsbomusic
URL:https://musiclives.ca/event/bo-at-mccabes-2/
LOCATION:McCabe’s Irish Pub Guelph\, 9 Wyndham St N\, Guelph\, Ontario\, N1H 4E5\, Canada
CATEGORIES:Live Music
ATTACH;FMTTYPE=image/jpeg:https://musiclives.ca/wp-content/uploads/2024/11/bo.jpg
END:VEVENT
BEGIN:VEVENT
DTSTART;TZID=America/Toronto:20241110T220000
DTEND;TZID=America/Toronto:20241111T010000
DTSTAMP:20260420T042305
CREATED:20230206T011647Z
LAST-MODIFIED:20230206T011647Z
UID:50746-1731276000-1731286800@musiclives.ca
SUMMARY:Open Mic!
DESCRIPTION:10pm Sunday Nights downtown Guelph at Jimmy Jazz! \n$3.75 mixed drinks.\nCome early for 1/2 price chicken wings until 945pm and stay for open stage hosted by Murphy D!
URL:https://musiclives.ca/event/open-mic-5-2024-11-10/
LOCATION:Jimmy Jazz\, 52 MacDonnell\, Guelph\, Ontario\, N1H 4E5\, Canada
ATTACH;FMTTYPE=image/jpeg:https://musiclives.ca/wp-content/uploads/2023/02/329562712_734418234872791_3845833827682206997_n.jpg
END:VEVENT
END:VCALENDAR