BEGIN:VCALENDAR
VERSION:2.0
PRODID:-//Music Lives - ECPv6.15.14//NONSGML v1.0//EN
CALSCALE:GREGORIAN
METHOD:PUBLISH
X-ORIGINAL-URL:https://musiclives.ca
X-WR-CALDESC:Events for Music Lives
REFRESH-INTERVAL;VALUE=DURATION:PT1H
X-Robots-Tag:noindex
X-PUBLISHED-TTL:PT1H
BEGIN:VTIMEZONE
TZID:America/Toronto
BEGIN:DAYLIGHT
TZOFFSETFROM:-0500
TZOFFSETTO:-0400
TZNAME:EDT
DTSTART:20230312T070000
END:DAYLIGHT
BEGIN:STANDARD
TZOFFSETFROM:-0400
TZOFFSETTO:-0500
TZNAME:EST
DTSTART:20231105T060000
END:STANDARD
BEGIN:DAYLIGHT
TZOFFSETFROM:-0500
TZOFFSETTO:-0400
TZNAME:EDT
DTSTART:20240310T070000
END:DAYLIGHT
BEGIN:STANDARD
TZOFFSETFROM:-0400
TZOFFSETTO:-0500
TZNAME:EST
DTSTART:20241103T060000
END:STANDARD
BEGIN:DAYLIGHT
TZOFFSETFROM:-0500
TZOFFSETTO:-0400
TZNAME:EDT
DTSTART:20250309T070000
END:DAYLIGHT
BEGIN:STANDARD
TZOFFSETFROM:-0400
TZOFFSETTO:-0500
TZNAME:EST
DTSTART:20251102T060000
END:STANDARD
END:VTIMEZONE
BEGIN:VEVENT
DTSTART;TZID=America/Toronto:20241121T190000
DTEND;TZID=America/Toronto:20241121T190000
DTSTAMP:20260417T210454
CREATED:20241118T172239Z
LAST-MODIFIED:20241118T172239Z
UID:60703-1732215600-1732215600@musiclives.ca
SUMMARY:Amitida
DESCRIPTION:Amitida is an 21yo singer songwriter born in Iran. With her topline vocals and her catchy lyrics Amitida is an inspiring artist and one to watch!  From the age of 13\, Amitida has been Singing & songwriting\, and in recent years\, she has also been learning production. Amitida is a self-taught musician with some vocal coaching to help her find her voice. Her biggest fans and supporters are her Mum & Dad\, helping her and encouraging her to follow her dream.
URL:https://musiclives.ca/event/amitida/
LOCATION:Manhattans Music Club\, 951 Gordon Street [Unit 7]\, Guelph\, Ontario\, N1G 4S1\, Canada
CATEGORIES:Live Music
ATTACH;FMTTYPE=image/jpeg:https://musiclives.ca/wp-content/uploads/2024/11/AMITIDA.jpg
END:VEVENT
BEGIN:VEVENT
DTSTART;TZID=America/Toronto:20241121T200000
DTEND;TZID=America/Toronto:20241121T200000
DTSTAMP:20260417T210454
CREATED:20241103T205820Z
LAST-MODIFIED:20241103T205820Z
UID:60549-1732219200-1732219200@musiclives.ca
SUMMARY:Hazie
DESCRIPTION:Guelph alt-rock singer will be at Atmosphere Cafe on November 21st playing music at 8pm. 19+
URL:https://musiclives.ca/event/hazie/
LOCATION:Atmosphere Cafe\, 24 Carden St\, Guelph\, Ontario\, N1H 3A2\, Canada
CATEGORIES:Live Music
ATTACH;FMTTYPE=image/jpeg:https://musiclives.ca/wp-content/uploads/2024/11/haize.jpg
END:VEVENT
BEGIN:VEVENT
DTSTART;TZID=America/Toronto:20241121T200000
DTEND;TZID=America/Toronto:20241121T200000
DTSTAMP:20260417T210454
CREATED:20241118T170843Z
LAST-MODIFIED:20241118T170843Z
UID:60687-1732219200-1732219200@musiclives.ca
SUMMARY:Maria Gabriella with Ethan Gardner
DESCRIPTION:Maria Gabriella @mariagabriella_official and Ethan Gardner @gardner.music are playing live at Brothers Brewing on Thursday November 21st at 8PM. PWYW.
URL:https://musiclives.ca/event/maria-gabriella-with-ethan-gardner/
LOCATION:Brothers Brewing Company\, 15 Wyndham St N\, Guelph\, ON\, Guelph\, Canada
CATEGORIES:Live Music
ATTACH;FMTTYPE=image/jpeg:https://musiclives.ca/wp-content/uploads/2024/11/Maria-Gabriella.jpg
END:VEVENT
END:VCALENDAR