BEGIN:VCALENDAR
VERSION:2.0
PRODID:-//Music Lives - ECPv6.15.14//NONSGML v1.0//EN
CALSCALE:GREGORIAN
METHOD:PUBLISH
X-WR-CALNAME:Music Lives
X-ORIGINAL-URL:https://musiclives.ca
X-WR-CALDESC:Events for Music Lives
REFRESH-INTERVAL;VALUE=DURATION:PT1H
X-Robots-Tag:noindex
X-PUBLISHED-TTL:PT1H
BEGIN:VTIMEZONE
TZID:America/Toronto
BEGIN:DAYLIGHT
TZOFFSETFROM:-0500
TZOFFSETTO:-0400
TZNAME:EDT
DTSTART:20230312T070000
END:DAYLIGHT
BEGIN:STANDARD
TZOFFSETFROM:-0400
TZOFFSETTO:-0500
TZNAME:EST
DTSTART:20231105T060000
END:STANDARD
BEGIN:DAYLIGHT
TZOFFSETFROM:-0500
TZOFFSETTO:-0400
TZNAME:EDT
DTSTART:20240310T070000
END:DAYLIGHT
BEGIN:STANDARD
TZOFFSETFROM:-0400
TZOFFSETTO:-0500
TZNAME:EST
DTSTART:20241103T060000
END:STANDARD
BEGIN:DAYLIGHT
TZOFFSETFROM:-0500
TZOFFSETTO:-0400
TZNAME:EDT
DTSTART:20250309T070000
END:DAYLIGHT
BEGIN:STANDARD
TZOFFSETFROM:-0400
TZOFFSETTO:-0500
TZNAME:EST
DTSTART:20251102T060000
END:STANDARD
END:VTIMEZONE
BEGIN:VEVENT
DTSTART;TZID=America/Toronto:20241228T140000
DTEND;TZID=America/Toronto:20241228T140000
DTSTAMP:20260416T092358
CREATED:20241227T192353Z
LAST-MODIFIED:20241227T192353Z
UID:61074-1735394400-1735394400@musiclives.ca
SUMMARY:Side By Side
DESCRIPTION:Side By Side is playing at the Red Chevron on Saturday December 28th from 2-6pm. All ages.
URL:https://musiclives.ca/event/side-by-side/
LOCATION:Red Chevron Club\, 34 Elizabeth Street\, Guelph\, N1E 2X2\, Canada
CATEGORIES:Live Music
ATTACH;FMTTYPE=image/jpeg:https://musiclives.ca/wp-content/uploads/2024/12/sidebyside.jpg
END:VEVENT
BEGIN:VEVENT
DTSTART;TZID=America/Toronto:20241228T190000
DTEND;TZID=America/Toronto:20241228T190000
DTSTAMP:20260416T092358
CREATED:20241227T194057Z
LAST-MODIFIED:20241227T194104Z
UID:61086-1735412400-1735412400@musiclives.ca
SUMMARY:Andrew Schoettler & Friends
DESCRIPTION:Andrew Schoettler is a drummer with over 12 years of experience under his belt and a solid musical background playing genres such as Jazz\, Funk\, Latin\, Pop\, and Rock. He first started his musical career at the age of 7\, and later on studied with various drummers such as Nick Macerollo and Dave O’Neill. He has played at multiple venues such Hillside Festival\, Manhattans\, Rhythm & Brews\, and various events\, most of which he played with Valet Quartet.
URL:https://musiclives.ca/event/andrew-schoettler-friends-2/
LOCATION:Manhattans Music Club\, 951 Gordon Street [Unit 7]\, Guelph\, Ontario\, N1G 4S1\, Canada
CATEGORIES:Live Music
ATTACH;FMTTYPE=image/jpeg:https://musiclives.ca/wp-content/uploads/2024/10/ANDREWSCHOETTLER.jpg
END:VEVENT
BEGIN:VEVENT
DTSTART;TZID=America/Toronto:20241228T190000
DTEND;TZID=America/Toronto:20241228T190000
DTSTAMP:20260416T092358
CREATED:20250120T153348Z
LAST-MODIFIED:20250120T153348Z
UID:61508-1735412400-1735412400@musiclives.ca
SUMMARY:Denielle Bassels Trio
DESCRIPTION:Denielle Bassels is one of the brightest new lights on the Canadian Jazz scene. Toronto-based Singer/Songwriter has been earning fans across Canada and Europe since the moment she stepped in front of a mic at a jam session and sang a rendition of Ella Fitzgerald’s “Bewitched\, Bothered and Bewildered.” Her whimsical brand of music is a caravan of jazz manouche\, blues\, folk\, with a tinge of pop\, all wrapped up in an innovative and scintillating package. With a powerful stage presence and “unique and fresh voice”\, she will stop you in your tracks and immerse you in her tales.
URL:https://musiclives.ca/event/denielle-bassels-trio-5/
LOCATION:Manhattans Music Club\, 951 Gordon Street [Unit 7]\, Guelph\, Ontario\, N1G 4S1\, Canada
CATEGORIES:Live Music
ATTACH;FMTTYPE=image/jpeg:https://musiclives.ca/wp-content/uploads/2024/08/DENIELLE-BASSELS-QUARTET.jpg
END:VEVENT
BEGIN:VEVENT
DTSTART;TZID=America/Toronto:20241228T200000
DTEND;TZID=America/Toronto:20241228T200000
DTSTAMP:20260416T092358
CREATED:20241227T192101Z
LAST-MODIFIED:20241227T192101Z
UID:61071-1735416000-1735416000@musiclives.ca
SUMMARY:Ivan Rivers and the Real Bleeders Band with Brandon Barraclough
DESCRIPTION:My good friend Brandon Barraclough is gonna sing some songs for us. Most of y’all will know Ivan Rivers and the Real Bleeders Band from being nice folks that play nice music on a regular and consistent basis. \nI’m cooking thanksgiving dinner for this show. Turkey and the whole 9 yards\, so please\, come get festive with us. We’re gonna eat right and also play music and then also go after party at Jimmy Jazz and literally play the same concert twice so we can double our payout for the evening. \n$15 or PWYC. All ages. No booze.
URL:https://musiclives.ca/event/ivan-rivers-and-the-real-bleeders-band-with-brandon-barraclough/
LOCATION:Upbeat Guitar Studio\, 99 Wyndham St N unit B-1\, Guelph\, Ontario\, N1H 4E9
CATEGORIES:Live Music
ATTACH;FMTTYPE=image/jpeg:https://musiclives.ca/wp-content/uploads/2024/12/ivanrivers.jpg
END:VEVENT
BEGIN:VEVENT
DTSTART;TZID=America/Toronto:20241228T213000
DTEND;TZID=America/Toronto:20241228T213000
DTSTAMP:20260416T092358
CREATED:20241227T191246Z
LAST-MODIFIED:20241227T191246Z
UID:61056-1735421400-1735421400@musiclives.ca
SUMMARY:Trick\, Mitch\, and Brent
DESCRIPTION:@trickvilbar will be at @which_craft_guelph Saturday December 28th with the homies @brentmarkwilson and @mitchell.staffen rocking out some cover tunes! 9:30pm start \nCome Dance/drink your face off
URL:https://musiclives.ca/event/trick-mitch-and-brent/
LOCATION:Which Craft\, 91 Wyndham St N\,\, Guelph\, Ontario\, N1H 4E9\, Canada
CATEGORIES:Live Music
ATTACH;FMTTYPE=image/jpeg:https://musiclives.ca/wp-content/uploads/2024/12/trick-mitch-brent.jpg
END:VEVENT
BEGIN:VEVENT
DTSTART;TZID=America/Toronto:20241228T213000
DTEND;TZID=America/Toronto:20241228T213000
DTSTAMP:20260416T092358
CREATED:20241227T191420Z
LAST-MODIFIED:20241227T191420Z
UID:61062-1735421400-1735421400@musiclives.ca
SUMMARY:Gabe Grieve
DESCRIPTION:Ladies and gents\, cowgirls and cowboys\, Stampede Ranchers… We have the 💫GABE GRIEVE💫 partying with us all weekend!\nYou don’t want to miss him hit The Stampede Ranch stage this Friday Dec 27th and Saturday Dec 28th from 9:30 pm to 1:30 am!!\nPut those brand new Christmas gift boots on or just your usual pair\, doesn’t matter as long as y’all join us for the BIGGEST country party at the BEST country bar!!\nSee y’all at The Ranch 🍻
URL:https://musiclives.ca/event/gabe-grieve-3/
LOCATION:The Stampede Ranch\, 226 Woodlawn Road West\, Guelph\, ON\, N1H 1B6\, Canada
CATEGORIES:Live Music
ATTACH;FMTTYPE=image/jpeg:https://musiclives.ca/wp-content/uploads/2024/12/gabe.jpg
END:VEVENT
BEGIN:VEVENT
DTSTART;TZID=America/Toronto:20241228T220000
DTEND;TZID=America/Toronto:20241228T220000
DTSTAMP:20260416T092358
CREATED:20241227T193015Z
LAST-MODIFIED:20241227T193015Z
UID:61083-1735423200-1735423200@musiclives.ca
SUMMARY:Ivan Rivers\, Brandon Barraclough\, and Prisonbreak
DESCRIPTION:Ivan Rivers\, Brandon Barraclough\, and Prisonbreak are playing at the Jimmy Jazz on Saturday December 28th at 10pm. 19+. No cover.
URL:https://musiclives.ca/event/ivan-rivers-brandon-barraclough-and-prisonbreak/
LOCATION:Jimmy Jazz\, 52 MacDonnell\, Guelph\, Ontario\, N1H 4E5\, Canada
CATEGORIES:Live Music
ATTACH;FMTTYPE=image/jpeg:https://musiclives.ca/wp-content/uploads/2024/12/ivanrivers2.jpg
END:VEVENT
END:VCALENDAR