BEGIN:VCALENDAR
VERSION:2.0
PRODID:-//Music Lives - ECPv6.15.14//NONSGML v1.0//EN
CALSCALE:GREGORIAN
METHOD:PUBLISH
X-ORIGINAL-URL:https://musiclives.ca
X-WR-CALDESC:Events for Music Lives
REFRESH-INTERVAL;VALUE=DURATION:PT1H
X-Robots-Tag:noindex
X-PUBLISHED-TTL:PT1H
BEGIN:VTIMEZONE
TZID:America/Toronto
BEGIN:DAYLIGHT
TZOFFSETFROM:-0500
TZOFFSETTO:-0400
TZNAME:EDT
DTSTART:20230312T070000
END:DAYLIGHT
BEGIN:STANDARD
TZOFFSETFROM:-0400
TZOFFSETTO:-0500
TZNAME:EST
DTSTART:20231105T060000
END:STANDARD
BEGIN:DAYLIGHT
TZOFFSETFROM:-0500
TZOFFSETTO:-0400
TZNAME:EDT
DTSTART:20240310T070000
END:DAYLIGHT
BEGIN:STANDARD
TZOFFSETFROM:-0400
TZOFFSETTO:-0500
TZNAME:EST
DTSTART:20241103T060000
END:STANDARD
BEGIN:DAYLIGHT
TZOFFSETFROM:-0500
TZOFFSETTO:-0400
TZNAME:EDT
DTSTART:20250309T070000
END:DAYLIGHT
BEGIN:STANDARD
TZOFFSETFROM:-0400
TZOFFSETTO:-0500
TZNAME:EST
DTSTART:20251102T060000
END:STANDARD
END:VTIMEZONE
BEGIN:VEVENT
DTSTART;TZID=America/Toronto:20241229T200000
DTEND;TZID=America/Toronto:20241229T200000
DTSTAMP:20260420T065408
CREATED:20241125T154354Z
LAST-MODIFIED:20241125T154354Z
UID:60746-1735502400-1735502400@musiclives.ca
SUMMARY:Karaoke Night at Which Craft
DESCRIPTION:KARAOKE NIGHT – EVERY SUNDAY AND WEDNESDAY AT 8PM \nWhen the music starts\, the fun begins! \nDrop by tonight and enjoy our local craft beer and signature cocktails!
URL:https://musiclives.ca/event/karaoke-night-at-which-craft-29/
LOCATION:Which Craft\, 91 Wyndham St N\,\, Guelph\, Ontario\, N1H 4E9\, Canada
CATEGORIES:Live Music
ATTACH;FMTTYPE=image/jpeg:https://musiclives.ca/wp-content/uploads/2024/11/sundaykaraoke.jpg
END:VEVENT
BEGIN:VEVENT
DTSTART;TZID=America/Toronto:20241229T210000
DTEND;TZID=America/Toronto:20241229T210000
DTSTAMP:20260420T065408
CREATED:20241209T173413Z
LAST-MODIFIED:20241209T173413Z
UID:60945-1735506000-1735506000@musiclives.ca
SUMMARY:Bo at McCabes
DESCRIPTION:Catch Bo playing at McCabes Guelph every Sunday at 9pm. @itsbomusic
URL:https://musiclives.ca/event/bo-at-mccabes-8/
LOCATION:McCabe’s Irish Pub Guelph\, 9 Wyndham St N\, Guelph\, Ontario\, N1H 4E5\, Canada
CATEGORIES:Live Music
ATTACH;FMTTYPE=image/jpeg:https://musiclives.ca/wp-content/uploads/2024/11/bo.jpg
END:VEVENT
BEGIN:VEVENT
DTSTART;TZID=America/Toronto:20241229T220000
DTEND;TZID=America/Toronto:20241230T010000
DTSTAMP:20260420T065408
CREATED:20230206T011647Z
LAST-MODIFIED:20230206T011647Z
UID:50753-1735509600-1735520400@musiclives.ca
SUMMARY:Open Mic!
DESCRIPTION:10pm Sunday Nights downtown Guelph at Jimmy Jazz! \n$3.75 mixed drinks.\nCome early for 1/2 price chicken wings until 945pm and stay for open stage hosted by Murphy D!
URL:https://musiclives.ca/event/open-mic-5-2024-12-29/
LOCATION:Jimmy Jazz\, 52 MacDonnell\, Guelph\, Ontario\, N1H 4E5\, Canada
ATTACH;FMTTYPE=image/jpeg:https://musiclives.ca/wp-content/uploads/2023/02/329562712_734418234872791_3845833827682206997_n.jpg
END:VEVENT
END:VCALENDAR