BEGIN:VCALENDAR
VERSION:2.0
PRODID:-//Music Lives - ECPv6.15.14//NONSGML v1.0//EN
CALSCALE:GREGORIAN
METHOD:PUBLISH
X-ORIGINAL-URL:https://musiclives.ca
X-WR-CALDESC:Events for Music Lives
REFRESH-INTERVAL;VALUE=DURATION:PT1H
X-Robots-Tag:noindex
X-PUBLISHED-TTL:PT1H
BEGIN:VTIMEZONE
TZID:America/Toronto
BEGIN:DAYLIGHT
TZOFFSETFROM:-0500
TZOFFSETTO:-0400
TZNAME:EDT
DTSTART:20240310T070000
END:DAYLIGHT
BEGIN:STANDARD
TZOFFSETFROM:-0400
TZOFFSETTO:-0500
TZNAME:EST
DTSTART:20241103T060000
END:STANDARD
BEGIN:DAYLIGHT
TZOFFSETFROM:-0500
TZOFFSETTO:-0400
TZNAME:EDT
DTSTART:20250309T070000
END:DAYLIGHT
BEGIN:STANDARD
TZOFFSETFROM:-0400
TZOFFSETTO:-0500
TZNAME:EST
DTSTART:20251102T060000
END:STANDARD
BEGIN:DAYLIGHT
TZOFFSETFROM:-0500
TZOFFSETTO:-0400
TZNAME:EDT
DTSTART:20260308T070000
END:DAYLIGHT
BEGIN:STANDARD
TZOFFSETFROM:-0400
TZOFFSETTO:-0500
TZNAME:EST
DTSTART:20261101T060000
END:STANDARD
END:VTIMEZONE
BEGIN:VEVENT
DTSTART;TZID=America/Toronto:20250101T150000
DTEND;TZID=America/Toronto:20250101T150000
DTSTAMP:20260417T044133
CREATED:20241230T152658Z
LAST-MODIFIED:20241230T153057Z
UID:61227-1735743600-1735743600@musiclives.ca
SUMMARY:Guelph Symphony Orchestra: Dreams of Vienna
DESCRIPTION:Ring in the New Year with your favourite waltzes\, arias and Viennese-inspired revelry. GSO’s New Year’s Day in Vienna concert is a delightfully joyous tradition – it’s the perfect way to bid a fond farewell to an old year while ushering in a new one. \nConductor\, Adam Johnson\nSoprano\, Jonelle Sills\nSpecial guests\, the Royal City School of Ballet
URL:https://musiclives.ca/event/guelph-symphony-orchestra-dreams-of-vienna/
LOCATION:River Run Centre\, 35 Woolwich St\, Guelph\, Ontario\, Canada
CATEGORIES:Live Music
ATTACH;FMTTYPE=image/jpeg:https://musiclives.ca/wp-content/uploads/2024/12/Guelph-Symphony-Orchestra-Holiday-Pops.jpg
END:VEVENT
BEGIN:VEVENT
DTSTART;TZID=America/Toronto:20250101T190000
DTEND;TZID=America/Toronto:20250101T190000
DTSTAMP:20260417T044133
CREATED:20241229T151332Z
LAST-MODIFIED:20241229T151332Z
UID:61135-1735758000-1735758000@musiclives.ca
SUMMARY:Perry and Mark
DESCRIPTION:Join Perry and Mark every Wednesday at Royal Electric for some live music. No cover. Music at 7pm.
URL:https://musiclives.ca/event/perry-and-mark-10/
LOCATION:Royal Electric Bar & Public Eatery\, 52 Macdonell St\, Guelph\, ON\, N1H 4E5\, Canada
CATEGORIES:Live Music
ATTACH;FMTTYPE=image/jpeg:https://musiclives.ca/wp-content/uploads/2024/10/royalelectric.jpg
END:VEVENT
BEGIN:VEVENT
DTSTART;TZID=America/Toronto:20250101T200000
DTEND;TZID=America/Toronto:20250101T200000
DTSTAMP:20260417T044133
CREATED:20241229T151639Z
LAST-MODIFIED:20241229T151639Z
UID:61153-1735761600-1735761600@musiclives.ca
SUMMARY:Karaoke Night at Which Craft
DESCRIPTION:KARAOKE NIGHT – EVERY SUNDAY AND WEDNESDAY AT 8PM \nWhen the music starts\, the fun begins! \nDrop by tonight and enjoy our local craft beer and signature cocktails!
URL:https://musiclives.ca/event/karaoke-night-at-which-craft-37/
LOCATION:Which Craft\, 91 Wyndham St N\,\, Guelph\, Ontario\, N1H 4E9\, Canada
CATEGORIES:Live Music
ATTACH;FMTTYPE=image/jpeg:https://musiclives.ca/wp-content/uploads/2024/09/smaller_wednesday2147.jpg
END:VEVENT
BEGIN:VEVENT
DTSTART;TZID=America/Toronto:20250101T200000
DTEND;TZID=America/Toronto:20250101T230000
DTSTAMP:20260417T044133
CREATED:20241229T151927Z
LAST-MODIFIED:20241229T151935Z
UID:61164-1735761600-1735772400@musiclives.ca
SUMMARY:Hump Day Karaoke
DESCRIPTION:HAPPY HUMP DAY KARAOKE!\n\n\n\n\n\n\n\n\n\n\n\nEVERY WEDNESDAY at DeBar Dessert Cafe @debar.ca\nFor karaoke\, drag\, games\, and fun hosted by your local Vibrant Vixen Ultra Violet!\n$5 at the door.
URL:https://musiclives.ca/event/hump-day-karaoke-2/
LOCATION:DeBar\, 105 Wyndham Street North\, Guelph\, Ontario\, N1H 4E9
CATEGORIES:Live Music
ATTACH;FMTTYPE=image/jpeg:https://musiclives.ca/wp-content/uploads/2023/09/hump-day-karaoke.jpg
END:VEVENT
END:VCALENDAR