BEGIN:VCALENDAR
VERSION:2.0
PRODID:-//Music Lives - ECPv6.15.14//NONSGML v1.0//EN
CALSCALE:GREGORIAN
METHOD:PUBLISH
X-ORIGINAL-URL:https://musiclives.ca
X-WR-CALDESC:Events for Music Lives
REFRESH-INTERVAL;VALUE=DURATION:PT1H
X-Robots-Tag:noindex
X-PUBLISHED-TTL:PT1H
BEGIN:VTIMEZONE
TZID:America/Toronto
BEGIN:DAYLIGHT
TZOFFSETFROM:-0500
TZOFFSETTO:-0400
TZNAME:EDT
DTSTART:20240310T070000
END:DAYLIGHT
BEGIN:STANDARD
TZOFFSETFROM:-0400
TZOFFSETTO:-0500
TZNAME:EST
DTSTART:20241103T060000
END:STANDARD
BEGIN:DAYLIGHT
TZOFFSETFROM:-0500
TZOFFSETTO:-0400
TZNAME:EDT
DTSTART:20250309T070000
END:DAYLIGHT
BEGIN:STANDARD
TZOFFSETFROM:-0400
TZOFFSETTO:-0500
TZNAME:EST
DTSTART:20251102T060000
END:STANDARD
BEGIN:DAYLIGHT
TZOFFSETFROM:-0500
TZOFFSETTO:-0400
TZNAME:EDT
DTSTART:20260308T070000
END:DAYLIGHT
BEGIN:STANDARD
TZOFFSETFROM:-0400
TZOFFSETTO:-0500
TZNAME:EST
DTSTART:20261101T060000
END:STANDARD
END:VTIMEZONE
BEGIN:VEVENT
DTSTART;TZID=America/Toronto:20250102T190000
DTEND;TZID=America/Toronto:20250102T190000
DTSTAMP:20260415T170825
CREATED:20241230T152824Z
LAST-MODIFIED:20241230T152824Z
UID:61229-1735844400-1735844400@musiclives.ca
SUMMARY:Katie Chadwick & Ethan MacKinnon
DESCRIPTION:Katie Chadwick has been singing since she was 8 years old and continues to pursue her love for music. Recording covers with her uncle for her Youtube channel and playing gigs for her family are just the start of what music means to her. Adele and Alanis Mourisette are her biggest inspirations. Graduating from Mohawk college for Music in 2021\, Katie has learned the ins and outs of a musician and is thankful for all the tips and support her professors have given her! \nOriginally From Brampton\, Ontario\, Ethan MacKinnon is a dynamic jazz pianist with a passion for blending traditional jazz elements with modern influences. With 15 years worth of piano playing\, Ethan has captivated audiences at various venues\, from intimate venues and local bars\, to playing on the big stage with Canadian legends like Our Lady Peace. Ethan is eager to bring his soulful and innovative sound to your venue!
URL:https://musiclives.ca/event/katie-chadwick-ethan-mackinnon-2/
LOCATION:Manhattans Music Club\, 951 Gordon Street [Unit 7]\, Guelph\, Ontario\, N1G 4S1\, Canada
CATEGORIES:Live Music
ATTACH;FMTTYPE=image/jpeg:https://musiclives.ca/wp-content/uploads/2024/08/katie.jpg
END:VEVENT
BEGIN:VEVENT
DTSTART;TZID=America/Toronto:20250102T220000
DTEND;TZID=America/Toronto:20250102T220000
DTSTAMP:20260415T170825
CREATED:20241229T152117Z
LAST-MODIFIED:20241229T152117Z
UID:61175-1735855200-1735855200@musiclives.ca
SUMMARY:Bo at McCabes
DESCRIPTION:Catch Bo playing at McCabes Guelph every Thursday at 10pm. @itsbomusic
URL:https://musiclives.ca/event/bo-at-mccabes-9/
LOCATION:McCabe’s Irish Pub Guelph\, 9 Wyndham St N\, Guelph\, Ontario\, N1H 4E5\, Canada
CATEGORIES:Live Music
ATTACH;FMTTYPE=image/jpeg:https://musiclives.ca/wp-content/uploads/2024/11/bo.jpg
END:VEVENT
END:VCALENDAR